BEGIN:VCALENDAR
VERSION:2.0
PRODID:-//MindShark - ECPv6.15.20//NONSGML v1.0//EN
CALSCALE:GREGORIAN
METHOD:PUBLISH
X-WR-CALNAME:MindShark
X-ORIGINAL-URL:https://campmindshark.com
X-WR-CALDESC:Events for MindShark
REFRESH-INTERVAL;VALUE=DURATION:PT1H
X-Robots-Tag:noindex
X-PUBLISHED-TTL:PT1H
BEGIN:VTIMEZONE
TZID:UTC
BEGIN:STANDARD
TZOFFSETFROM:+0000
TZOFFSETTO:+0000
TZNAME:UTC
DTSTART:20230101T000000
END:STANDARD
END:VTIMEZONE
BEGIN:VEVENT
DTSTART;TZID=UTC:20250719T200000
DTEND;TZID=UTC:20250720T020000
DTSTAMP:20260423T135646
CREATED:20250527T171244Z
LAST-MODIFIED:20250627T154727Z
UID:1474-1752955200-1752976800@campmindshark.com
SUMMARY:HAMMERHEAD: A MindShark Fundraiser Party\, Denver CO
DESCRIPTION:MindShark will be bringing some of our signature snark and art to Truss House in the RiNo Arts district. Don’t miss out on an unforgettable night filled with bumping DJs\, the Space Chariot art car\, LED art\, metal sculptures\, craft cocktails\, and much more.
URL:https://campmindshark.com/event/hammerhead/
LOCATION:Truss House\, Rino Art Park  – Denver\, Colorado\, 3400 Arkins Ct\, Denver\, CO\, 80216\, United States
ATTACH;FMTTYPE=image/jpeg:https://campmindshark.com/wp-content/uploads/2025/06/Initial-Poster-1.jpeg
END:VEVENT
BEGIN:VEVENT
DTSTART;TZID=UTC:20240830T210000
DTEND;TZID=UTC:20240831T000000
DTSTAMP:20260423T135646
CREATED:20240715T203625Z
LAST-MODIFIED:20240715T203627Z
UID:1368-1725051600-1725062400@campmindshark.com
SUMMARY:Drum and Bass and Drunk and Bass and…
DESCRIPTION:Drum and bass sets – What could make such a perfect union even better? How about ice cold cocktails and playa dust?
URL:https://campmindshark.com/event/drum-and-bass-and-drunk-and-bass-and/
LOCATION:CO
END:VEVENT
BEGIN:VEVENT
DTSTART;TZID=UTC:20240829T210000
DTEND;TZID=UTC:20240830T000000
DTSTAMP:20260423T135646
CREATED:20240715T203926Z
LAST-MODIFIED:20240715T203944Z
UID:1370-1724965200-1724976000@campmindshark.com
SUMMARY:The FUN in Funk
DESCRIPTION:For souls longing to groove and mouths longing to be refreshed. Dance your dust off with funky DJs and fresh cocktails.
URL:https://campmindshark.com/event/the-fun-in-funk/
LOCATION:CO
END:VEVENT
BEGIN:VEVENT
DTSTART;TZID=UTC:20240828T220000
DTEND;TZID=UTC:20240829T000000
DTSTAMP:20260423T135646
CREATED:20240715T204700Z
LAST-MODIFIED:20240715T204702Z
UID:1376-1724882400-1724889600@campmindshark.com
SUMMARY:cinematic distortions
DESCRIPTION:Love cinema? Are you WEIRD? Come see how deep the rabbit hole goes with our cinema inspired music experience. Are you drunk\, or that just the music? Yes.
URL:https://campmindshark.com/event/cinematic-distortions/
LOCATION:CO
END:VEVENT
BEGIN:VEVENT
DTSTART;TZID=UTC:20240828T190000
DTEND;TZID=UTC:20240828T210000
DTSTAMP:20260423T135646
CREATED:20240715T204453Z
LAST-MODIFIED:20240716T040426Z
UID:1374-1724871600-1724878800@campmindshark.com
SUMMARY:Shark Snark Open Megaphone
DESCRIPTION:Ever want to know what it’s like to have a difficult crowd? Come get drunk off cold cocktails and heckled till you cry!
URL:https://campmindshark.com/event/shark-snark-open-megaphone/
LOCATION:CO
END:VEVENT
BEGIN:VEVENT
DTSTART;TZID=UTC:20240827T210000
DTEND;TZID=UTC:20240828T000000
DTSTAMP:20260423T135646
CREATED:20240712T050526Z
LAST-MODIFIED:20240715T203811Z
UID:1364-1724792400-1724803200@campmindshark.com
SUMMARY:Dome and Tacos
DESCRIPTION:A feast for your stomach and your eyes! Eat delicious tacos and be mesmerized by the best LED dome on the playa!
URL:https://campmindshark.com/event/dome-and-tacos/
LOCATION:CO
END:VEVENT
BEGIN:VEVENT
DTSTART;TZID=UTC:20240825T000000
DTEND;TZID=UTC:20240825T030000
DTSTAMP:20260423T135646
CREATED:20240715T204951Z
LAST-MODIFIED:20240715T204953Z
UID:1378-1724544000-1724554800@campmindshark.com
SUMMARY:First!
DESCRIPTION:Our rager starts the second the gates open 12:01am. Witness the power of this fully armed and operational party station.
URL:https://campmindshark.com/event/first/
LOCATION:CO
END:VEVENT
END:VCALENDAR